BEGIN:VCALENDAR
VERSION:2.0
PRODID:-//Manningham Interfaith Network - ECPv4.6.11//NONSGML v1.0//EN
CALSCALE:GREGORIAN
METHOD:PUBLISH
X-WR-CALNAME:Manningham Interfaith Network
X-ORIGINAL-URL:http://www.manninghaminterfaithnetwork.org.au
X-WR-CALDESC:Events for Manningham Interfaith Network
BEGIN:VEVENT
DTSTART;TZID=UTC+11:20200419T110000
DTEND;TZID=UTC+11:20200419T160000
DTSTAMP:20200302T055038
CREATED:20200207T013213Z
LAST-MODIFIED:20200207T013916Z
UID:3086-1587294000-1587312000@www.manninghaminterfaithnetwork.org.au
SUMMARY:Intercultural Festival - Sunday 19th April
DESCRIPTION:\n				\n				\n				\n					\n				\n				\n				\n				\n				\n				\n				\n			\n			 \n				\n				\n				\n				\n				\n				\n					FREE COMMUNITY EVENT \nShowcase your group at our Intercultural Festival \nSunday 19th April 2020 \n11.00am – 4.00pm \nDoncaster Secondary College\, 123 Church Road\, Doncaster \nWe invite all cultures\, abilities and talents to take this opportunity to participate in our festival by having your own… \n\nExpo and displays\nArts and crafts\nPerformances\nCultural foods\n\nCONTACT US TODAY! \nWe are looking for people and groups to be part of this Intercultural Festival\, to be involved in showing the diversity and connection of our community. \nInterested in participating?\nContact Dot Haynes at: \ndothaynes041@gmail.com or 0425 718 937 \n  \nDownload Flyer \n				\n			 \n			 \n				\n				\n			 \n				\n			 
URL:http://www.manninghaminterfaithnetwork.org.au/event/intercultural-festival-sunday-19th-april/
LOCATION:123 Church Road\, Doncaster\, Victoria\, 3108\, Australia
CATEGORIES:Australian,Interfaith
ATTACH;FMTTYPE=image/jpeg:http://www.manninghaminterfaithnetwork.org.au/wp-content/assets/2020/02/Intercultural-Festival.jpg
ORGANIZER;CN="Dot%20Haynes":MAILTO:dothaynes041@gmail.com
END:VEVENT
END:VCALENDAR